BEGIN:VCALENDAR
VERSION:2.0
PRODID:-//Oranje Nassau - ECPv6.15.20//NONSGML v1.0//EN
CALSCALE:GREGORIAN
METHOD:PUBLISH
X-WR-CALNAME:Oranje Nassau
X-ORIGINAL-URL:https://onvolleybal.nl
X-WR-CALDESC:Evenementen voor Oranje Nassau
REFRESH-INTERVAL;VALUE=DURATION:PT1H
X-Robots-Tag:noindex
X-PUBLISHED-TTL:PT1H
BEGIN:VTIMEZONE
TZID:Europe/Amsterdam
BEGIN:DAYLIGHT
TZOFFSETFROM:+0100
TZOFFSETTO:+0200
TZNAME:CEST
DTSTART:20240331T010000
END:DAYLIGHT
BEGIN:STANDARD
TZOFFSETFROM:+0200
TZOFFSETTO:+0100
TZNAME:CET
DTSTART:20241027T010000
END:STANDARD
BEGIN:DAYLIGHT
TZOFFSETFROM:+0100
TZOFFSETTO:+0200
TZNAME:CEST
DTSTART:20250330T010000
END:DAYLIGHT
BEGIN:STANDARD
TZOFFSETFROM:+0200
TZOFFSETTO:+0100
TZNAME:CET
DTSTART:20251026T010000
END:STANDARD
BEGIN:DAYLIGHT
TZOFFSETFROM:+0100
TZOFFSETTO:+0200
TZNAME:CEST
DTSTART:20260329T010000
END:DAYLIGHT
BEGIN:STANDARD
TZOFFSETFROM:+0200
TZOFFSETTO:+0100
TZNAME:CET
DTSTART:20261025T010000
END:STANDARD
BEGIN:DAYLIGHT
TZOFFSETFROM:+0100
TZOFFSETTO:+0200
TZNAME:CEST
DTSTART:20270328T010000
END:DAYLIGHT
BEGIN:STANDARD
TZOFFSETFROM:+0200
TZOFFSETTO:+0100
TZNAME:CET
DTSTART:20271031T010000
END:STANDARD
END:VTIMEZONE
BEGIN:VEVENT
DTSTART;TZID=Europe/Amsterdam:20260411T170000
DTEND;TZID=Europe/Amsterdam:20260411T230000
DTSTAMP:20260420T065222
CREATED:20260116T205648Z
LAST-MODIFIED:20260116T210339Z
UID:6866-1775926800-1775948400@onvolleybal.nl
SUMMARY:Feestje! - laatste thuisspeeldag
DESCRIPTION:Helaas het wedstrijdseizoen zit er al weer op na vandaag. Maar niet getreurd want we sluiten af met een knallend eindfeest georganiseerd door Heren 1. Meer informatie volgt.
URL:https://onvolleybal.nl/evenement/feestje-laatste-thuisspeeldag/
LOCATION:Sporthal De Brug\, Donderslaan 160\, Groningen
CATEGORIES:Activiteit,Thuisdag
ATTACH;FMTTYPE=image/png:https://onvolleybal.nl/wp-content/uploads/2026/01/image-5.png
END:VEVENT
BEGIN:VEVENT
DTSTART;TZID=Europe/Amsterdam:20260327T200000
DTEND;TZID=Europe/Amsterdam:20260327T223000
DTSTAMP:20260420T065222
CREATED:20260116T203931Z
LAST-MODIFIED:20260116T204630Z
UID:6857-1774641600-1774650600@onvolleybal.nl
SUMMARY:De grote ON Pubquiz!
DESCRIPTION:Na een daverend succes vorig jaar organiseert Dames 13 dit jaar wederom een pubquiz.Meer informatie volgt binnenkort.
URL:https://onvolleybal.nl/evenement/de-grote-on-pubquiz/
LOCATION:Wijkcentrum De Schakel\, Rijksweg 15\, Groningen
CATEGORIES:Activiteit
ATTACH;FMTTYPE=image/png:https://onvolleybal.nl/wp-content/uploads/2026/01/image-4.png
END:VEVENT
BEGIN:VEVENT
DTSTART;TZID=Europe/Amsterdam:20260208T150000
DTEND;TZID=Europe/Amsterdam:20260208T170000
DTSTAMP:20260420T065222
CREATED:20260116T203305Z
LAST-MODIFIED:20260116T221758Z
UID:6854-1770562800-1770570000@onvolleybal.nl
SUMMARY:Met ON naar Lycurgus vs Orion Stars
DESCRIPTION:Kom samen met ONs de mannen van Lycurgus aanmoedigen bij een spannende wedstrijd tussen Lycurgus en Orion Stars!
URL:https://onvolleybal.nl/evenement/met-on-naar-lycurgus-vs-orion-stars/
LOCATION:Alfa-college Sportcentrum\, Kardingerweg 48\, Groningen
CATEGORIES:Activiteit
ATTACH;FMTTYPE=image/png:https://onvolleybal.nl/wp-content/uploads/2026/01/image-8.png
END:VEVENT
BEGIN:VEVENT
DTSTART;TZID=Europe/Amsterdam:20260206T193000
DTEND;TZID=Europe/Amsterdam:20260206T220000
DTSTAMP:20260420T065222
CREATED:20260116T201948Z
LAST-MODIFIED:20260116T210710Z
UID:6848-1770406200-1770415200@onvolleybal.nl
SUMMARY:Algemene Leden Vergadering (ALV)
DESCRIPTION:Lieve ONers\, \n\n\n\nOp vrijdag 6 februari wordt de volgende algemene ledenvergadering gehouden in MFC de Wijert & Helpman. Het adres is P.C. Hooftlaan 1   9721 JM  Groningen. \n\n\n\nDe inloop is om 19:45 en we starten om 20:00. We hopen jullie daar te zien. \n\n\n\nGroeten\,Bestuur Oranje Nassau
URL:https://onvolleybal.nl/evenement/algemene-leden-vergadering-alv/
LOCATION:MFC De Wijert & Helpman\, P.C. Hooftlaan 1\, Groningen
CATEGORIES:Algemene ledenvergadering
ATTACH;FMTTYPE=image/png:https://onvolleybal.nl/wp-content/uploads/2026/01/image-1.png
END:VEVENT
BEGIN:VEVENT
DTSTART;TZID=Europe/Amsterdam:20260117T193000
DTEND;TZID=Europe/Amsterdam:20260117T220000
DTSTAMP:20260420T065222
CREATED:20260116T202250Z
LAST-MODIFIED:20260116T210601Z
UID:6851-1768678200-1768687200@onvolleybal.nl
SUMMARY:ON Bierproeverij thuisdag 17 januari
DESCRIPTION:Dames en heren\, 17 januari is het ein-de-lijk zover! De dag die je wist dat zou komen: de grote Heren 3 Bierproeverie! \n\n\n\nTijdens deze gezellige avond zal jullie een kleine selectie aan heerlijke bieren voorgeschoteld worden\, maar welke zijn het? Raad jij ze allemaal goed en strijd je mee voor de titel ‘Bierkoning(in)’? \n\n\n\nGeef je dan op via deze link: https://docs.google.com/forms/d/e/1FAIpQLSfbr1f_MjDTkPVd6oWHiOUWt89U0JnfcnUCG7ACN3il2LMN1g/viewform?usp=preview \n\n\n\nTot dan!Heren 3
URL:https://onvolleybal.nl/evenement/on-bierproeverij-thuisdag-17-januari/
LOCATION:Sporthal De Brug\, Donderslaan 160\, Groningen
CATEGORIES:Thuisdag
ATTACH;FMTTYPE=image/png:https://onvolleybal.nl/wp-content/uploads/2026/01/image-2.png
END:VEVENT
BEGIN:VEVENT
DTSTART;TZID=Europe/Amsterdam:20251213T174500
DTEND;TZID=Europe/Amsterdam:20251213T210000
DTSTAMP:20260420T065222
CREATED:20251022T202921Z
LAST-MODIFIED:20251022T202923Z
UID:6616-1765647900-1765659600@onvolleybal.nl
SUMMARY:Avond thuisdag
DESCRIPTION:Kom kijken bij één van de vier wedstrijden in deze avond thuisdag.
URL:https://onvolleybal.nl/evenement/avond-thuisdag/
LOCATION:Sporthal de Brug\, Donderslaan 160\, Groningen\, 9728 KX\, Netherlands
CATEGORIES:Thuisdag
END:VEVENT
BEGIN:VEVENT
DTSTART;TZID=Europe/Amsterdam:20251206T104500
DTEND;TZID=Europe/Amsterdam:20251206T144500
DTSTAMP:20260420T065222
CREATED:20251022T202637Z
LAST-MODIFIED:20251205T173033Z
UID:6614-1765017900-1765032300@onvolleybal.nl
SUMMARY:Thuisdag jeugd
DESCRIPTION:Kom kijken bij een thuisdag van de jeugd. De Jongens B kunnen kampioen worden!
URL:https://onvolleybal.nl/evenement/thuisdag-jeugd-3/
LOCATION:Sporthal de Brug\, Donderslaan 160\, Groningen\, 9728 KX\, Netherlands
CATEGORIES:Thuisdag
END:VEVENT
BEGIN:VEVENT
DTSTART;TZID=Europe/Amsterdam:20251129T104500
DTEND;TZID=Europe/Amsterdam:20251129T210000
DTSTAMP:20260420T065222
CREATED:20251022T202505Z
LAST-MODIFIED:20251022T202507Z
UID:6612-1764413100-1764450000@onvolleybal.nl
SUMMARY:Thuisdag
DESCRIPTION:Kom kijken bij weer een volle thuisdag!
URL:https://onvolleybal.nl/evenement/thuisdag-3/
LOCATION:Sporthal de Brug\, Donderslaan 160\, Groningen\, 9728 KX\, Netherlands
CATEGORIES:Thuisdag
END:VEVENT
BEGIN:VEVENT
DTSTART;TZID=Europe/Amsterdam:20251128T203000
DTEND;TZID=Europe/Amsterdam:20251128T235900
DTSTAMP:20260420T065222
CREATED:20251112T211448Z
LAST-MODIFIED:20251113T230635Z
UID:6669-1764361800-1764374340@onvolleybal.nl
SUMMARY:Spelletjesavond
DESCRIPTION:De volgende ACtiviteit komt er al weer aan en dat is\, jawel! Een spelletjesavond! Een ouderwets gezellige avond in de Kroeg van Klaas.Catan\, Codenames\, Ligretto Ticket to Ride\, Qwixx\, Regenwormen\, Keer op Keer\, Hitster\, 30 Seconds\, Klaverjassen\, Weerwolven\, Halli Galli en nog veel meer…Geef je op met je teamies en we maken er een gezellige avond van. We zien je dan! Graag even aanmelden via de link gedeeld via whatsapp.
URL:https://onvolleybal.nl/evenement/spelletjesavond/
LOCATION:Kroeg van Klaas\, Oosterweg 26\, Groningen\, 9724CJ
CATEGORIES:Activiteit
ATTACH;FMTTYPE=image/jpeg:https://onvolleybal.nl/wp-content/uploads/2025/11/Board-game-night.jpg
END:VEVENT
BEGIN:VEVENT
DTSTART;TZID=Europe/Amsterdam:20251122T104500
DTEND;TZID=Europe/Amsterdam:20251122T210000
DTSTAMP:20260420T065222
CREATED:20251022T202331Z
LAST-MODIFIED:20251022T203404Z
UID:6610-1763808300-1763845200@onvolleybal.nl
SUMMARY:Mix thuisdag
DESCRIPTION:Kom kijken bij weer een thuisdag van de jeugd met een deel van de senioren.
URL:https://onvolleybal.nl/evenement/mix-thuisdag/
LOCATION:Sporthal de Brug\, Donderslaan 160\, Groningen\, 9728 KX\, Netherlands
CATEGORIES:Thuisdag
END:VEVENT
BEGIN:VEVENT
DTSTART;TZID=Europe/Amsterdam:20251118T201500
DTEND;TZID=Europe/Amsterdam:20251118T220000
DTSTAMP:20260420T065222
CREATED:20251112T210730Z
LAST-MODIFIED:20251113T230606Z
UID:6664-1763496900-1763503200@onvolleybal.nl
SUMMARY:Ronde 3 Nationale Bekerwedstrijd Dames 1
DESCRIPTION:Weet je het nog? Twee jaar geleden? Toen we drie Superdivisie teams uitschakelden en in de 1/8 finale van de Nationale Beker aantraden tegen Eredivisionist Sliedrecht Sport D1. Wij wel! En we zijn weer klaar om te strijden\, als echte Reuzendoders. \n\n\n\nOp dinsdag 18 november mogen we aantreden tegen Superdivisionist Rivo Rijssen Dames 1. In onze geliefde sporthal De Brug. Maar… we kunnen het niet zonder jouw support! Dus: trek je oranje shirt aan\, neem je vrienden mee en maak kans op een mooie prijs!
URL:https://onvolleybal.nl/evenement/ronde-3-nationale-bekerwedstrijd-dames-1/
LOCATION:Sporthal de Brug\, Donderslaan 160\, Groningen\, 9728 KX\, Netherlands
CATEGORIES:Nationale Beker
ATTACH;FMTTYPE=image/jpeg:https://onvolleybal.nl/wp-content/uploads/2025/11/Nationale-bekerwedstrijd-ronde-3.jpg
END:VEVENT
BEGIN:VEVENT
DTSTART;TZID=Europe/Amsterdam:20251115T104500
DTEND;TZID=Europe/Amsterdam:20251115T210000
DTSTAMP:20260420T065222
CREATED:20251022T201821Z
LAST-MODIFIED:20251022T202124Z
UID:6607-1763203500-1763240400@onvolleybal.nl
SUMMARY:Thuisdag
DESCRIPTION:Kom kijken bij weer een thuisdag!
URL:https://onvolleybal.nl/evenement/thuisdag-2/
LOCATION:Sporthal de Brug\, Donderslaan 160\, Groningen\, 9728 KX\, Netherlands
CATEGORIES:Thuisdag
END:VEVENT
BEGIN:VEVENT
DTSTART;TZID=Europe/Amsterdam:20251108T104500
DTEND;TZID=Europe/Amsterdam:20251108T210000
DTSTAMP:20260420T065222
CREATED:20251022T201316Z
LAST-MODIFIED:20251022T201511Z
UID:6605-1762598700-1762635600@onvolleybal.nl
SUMMARY:Thuisdag
DESCRIPTION:Tweede thuisdag van ONze vereniging.
URL:https://onvolleybal.nl/evenement/thuisdag/
LOCATION:Sporthal de Brug\, Donderslaan 160\, Groningen\, 9728 KX\, Netherlands
CATEGORIES:Thuisdag
END:VEVENT
BEGIN:VEVENT
DTSTART;TZID=Europe/Amsterdam:20251101T104500
DTEND;TZID=Europe/Amsterdam:20251101T160000
DTSTAMP:20260420T065222
CREATED:20251022T201138Z
LAST-MODIFIED:20251022T201441Z
UID:6603-1761993900-1762012800@onvolleybal.nl
SUMMARY:Thuisdag jeugd
DESCRIPTION:Tweede thuisdag van ONze jeugd.
URL:https://onvolleybal.nl/evenement/thuisdag-jeugd/
LOCATION:Sporthal de Brug\, Donderslaan 160\, Groningen\, 9728 KX\, Netherlands
CATEGORIES:Thuisdag
END:VEVENT
BEGIN:VEVENT
DTSTART;TZID=Europe/Amsterdam:20251031T203000
DTEND;TZID=Europe/Amsterdam:20251031T220000
DTSTAMP:20260420T065222
CREATED:20260116T200615Z
LAST-MODIFIED:20260116T200617Z
UID:6844-1761942600-1761948000@onvolleybal.nl
SUMMARY:Karaoke Night
DESCRIPTION:Lieve ON’ers\, \n\n\n\nHet nieuwe seizoen is weer begonnen\, vanuit de AC delen wij graag de eerste activiteit: \n\n\n\nWij aanschouwen jullie talenten natuurlijk graag in de sporthal\, maar wat gebeurt er als de sportschoenen opgeruimd zijn en de microfoon aangaat? 🎤😏Tijd om die geheime zangtalenten te laten horen tijdens onze eigen karaoke-avond! \n\n\n\n📅 Wanneer: vrijdag 31 oktober🕢 Hoe laat: 20:30📍 Waar: De Drie Gezusters💰 Kosten: 10 euro pp (inclusief 2 drankjes) \n\n\n\nOf je nou gaat voor een powerballad\, guilty pleasure of duet met je teamie: dit wordt een avond vol muziek\, lol en verrassingen. \n\n\n\nEr is een beperkt aantal plekken beschikbaar\, geef je dus snel op via onderstaande link (vol=vol):https://chat.whatsapp.com/Hb8O2NHlT6e3ben81rSNO1 \n\n\n\nTot dan! 🧡
URL:https://onvolleybal.nl/evenement/karaoke-night/
ATTACH;FMTTYPE=image/jpeg:https://onvolleybal.nl/wp-content/uploads/2026/01/karaokenight.jpeg
END:VEVENT
BEGIN:VEVENT
DTSTART;TZID=Europe/Amsterdam:20251031T203000
DTEND;TZID=Europe/Amsterdam:20251031T220000
DTSTAMP:20260420T065222
CREATED:20251015T210255Z
LAST-MODIFIED:20251022T203446Z
UID:6469-1761942600-1761948000@onvolleybal.nl
SUMMARY:ONze karaoke
DESCRIPTION:** deze activiteit is alleen voor ON leden ** \n\n\n\nHet is tijd om je geheime zangtalent te laten horen en meer te zingen dan “ON ON ON”. Misschien een Pour un flirt avec moi of Hit me baby one more time\, opties genoeg tijdens ONze karaoke!! 🎤Het belooft een avond vol muziek\, lol en verrassingen te worden! Tot dan!
URL:https://onvolleybal.nl/evenement/onze-karaoke/
LOCATION:De Drie Gezusters\, Grote Markt 36 - 39\, Groningen\, 9711 LV
CATEGORIES:Activiteit
ATTACH;FMTTYPE=image/jpeg:https://onvolleybal.nl/wp-content/uploads/2025/10/Karaoke-Night.jpg
END:VEVENT
END:VCALENDAR