BEGIN:VCALENDAR
VERSION:2.0
PRODID:-//Oranje Nassau - ECPv6.15.20//NONSGML v1.0//EN
CALSCALE:GREGORIAN
METHOD:PUBLISH
X-WR-CALNAME:Oranje Nassau
X-ORIGINAL-URL:https://onvolleybal.nl
X-WR-CALDESC:Evenementen voor Oranje Nassau
REFRESH-INTERVAL;VALUE=DURATION:PT1H
X-Robots-Tag:noindex
X-PUBLISHED-TTL:PT1H
BEGIN:VTIMEZONE
TZID:Europe/Amsterdam
BEGIN:DAYLIGHT
TZOFFSETFROM:+0100
TZOFFSETTO:+0200
TZNAME:CEST
DTSTART:20250330T010000
END:DAYLIGHT
BEGIN:STANDARD
TZOFFSETFROM:+0200
TZOFFSETTO:+0100
TZNAME:CET
DTSTART:20251026T010000
END:STANDARD
BEGIN:DAYLIGHT
TZOFFSETFROM:+0100
TZOFFSETTO:+0200
TZNAME:CEST
DTSTART:20260329T010000
END:DAYLIGHT
BEGIN:STANDARD
TZOFFSETFROM:+0200
TZOFFSETTO:+0100
TZNAME:CET
DTSTART:20261025T010000
END:STANDARD
BEGIN:DAYLIGHT
TZOFFSETFROM:+0100
TZOFFSETTO:+0200
TZNAME:CEST
DTSTART:20270328T010000
END:DAYLIGHT
BEGIN:STANDARD
TZOFFSETFROM:+0200
TZOFFSETTO:+0100
TZNAME:CET
DTSTART:20271031T010000
END:STANDARD
END:VTIMEZONE
BEGIN:VEVENT
DTSTART;TZID=Europe/Amsterdam:20260613T140000
DTEND;TZID=Europe/Amsterdam:20260613T190000
DTSTAMP:20260420T051142
CREATED:20260116T210253Z
LAST-MODIFIED:20260116T210255Z
UID:6871-1781359200-1781377200@onvolleybal.nl
SUMMARY:Beachtoernooi
DESCRIPTION:Na een warm\, zonnig en zeer geslaagd beachtoernooi vorig seizoen organiseert ON Dames 12 op 13 juni 2026 weer een beachtoernooi! Meer informatie en inschrijving volgt!
URL:https://onvolleybal.nl/evenement/beachtoernooi/
LOCATION:Beach Volley Club Groningen (BVCG)\, Kooiweg 1\, Groningen
CATEGORIES:Activiteit
ATTACH;FMTTYPE=image/png:https://onvolleybal.nl/wp-content/uploads/2026/01/image-6.png
END:VEVENT
BEGIN:VEVENT
DTSTART;TZID=Europe/Amsterdam:20260828T193000
DTEND;TZID=Europe/Amsterdam:20260828T220000
DTSTAMP:20260420T051142
CREATED:20260116T210517Z
LAST-MODIFIED:20260116T210519Z
UID:6876-1787945400-1787954400@onvolleybal.nl
SUMMARY:Algemene Leden Vergadering (ALV)
DESCRIPTION:
URL:https://onvolleybal.nl/evenement/algemene-leden-vergadering-alv-2/
CATEGORIES:Algemene ledenvergadering
ATTACH;FMTTYPE=image/png:https://onvolleybal.nl/wp-content/uploads/2026/01/image-7.png
END:VEVENT
END:VCALENDAR